BEGIN:VCALENDAR
VERSION:2.0
PRODID:-//wp-events-plugin.com//7.2.3.1//EN
BEGIN:VEVENT
UID:12304@event.lipalife.de
DTSTART:20251112T090000Z
DTEND:20260701T180000Z
DTSTAMP:20250823T060332Z
URL:https://event.lipalife.de/events/die-welt-ins-museum-vom-handeln-samme
 ln-und-entdecken-2/
SUMMARY:Die Welt ins Museum. Vom Handeln\, Sammeln und Entdecken
DESCRIPTION:\n\nDie Ausstellung ist erster Meilenstein in der Neu­gestaltu
 ng der Ethnologie des Kulturmuseums.\n\nDie Hauptausstellung 2025 taucht e
 in in die Entstehungs­geschichte der ethnologischen Sammlung und erzählt
  vom globalen Netz­werk der Stadt St. Gallen. Im Zentrum steht die 1878
  gegründete Ostschweizerische Geographisch-Commercielle Gesellschaft. Eng
  verwoben mit der Textil­industrie\, suchte die Gesell­schaft nach neuen
  Absatz­märkten in Übersee und verband ihre wirt­schaftlichen Interess
 en mit einer umfassenden wissenschafts- und gesellschafts­orientierten Sa
 mmlungs­tätigkeit. Sie trug zur Gründung des 1921 eröffneten Kultur­m
 useums bei. Die Ausstellung ist erster Meilenstein in der Neu­gestaltung 
 der Ethnologie des Kulturmuseums.\n\nDatum\, Zeit\n8.11.2025 – 5.7.2026 
 | 10:00 – 17:00 | Di\,Do\,Fr\,Sa\,So\n8.11.2025 – 5.7.2026 | 10:00 –
  19:00 | Mi\n\n\nVeranstaltungsort\nKulturmuseum St.Gallen\, Museumstrasse
  50\n9000 St. GallenTicketpreise ab:\n_\n\n\n\n\n
ATTACH;FMTTYPE=image/jpeg:https://event.lipalife.de/wp-content/uploads/202
 5/08/Die-Welt-ins-Museum.-Vom-Handeln-Sammeln-und-Entdecken.avif
CATEGORIES:Ausstellungen &amp; Museen,Kunst &amp; Ausstellungen
LOCATION:Kulturmuseum St.Gallen\, Museumstrasse 50 \, St. Gallen\, 9000\, S
 chweiz
GEO:47.428584;9.38297
X-APPLE-STRUCTURED-LOCATION;VALUE=URI;X-ADDRESS=Museumstrasse 50 \, St. Gal
 len\, 9000\, Schweiz;X-APPLE-RADIUS=100;X-TITLE=Kulturmuseum St.Gallen:geo
 :47.428584,9.38297
END:VEVENT
END:VCALENDAR